BEGIN:VCALENDAR
VERSION:2.0
PRODID:-//eventon.com NONSGML v1.0//EN
CALSCALE:GREGORIAN
METHOD:PUBLISH
BEGIN:VEVENT
UID:69e9ddbf078bf
DTSTAMP:20260423T085215Z
DTSTART:20160128T191500Z
DTEND:20160128T225000Z
LOCATION:Hörsaal H1 Schlossplatz 46\,  48143 Münster
SUMMARY:Wintersemester 2015/2016
DESCRIPTION:Edvard Grieg: &#8222;In der Halle des Bergkönigs&#8220; aus de
 r Peer-Gynt-Suite Johannes Brahms: Doppelkonzert a-Moll für Violine und Or
 chester Pjotr Iljitsch Tschaikowsky: Sinfonie Nr. 5 e-Moll op. 64 Anna Heyg
 ster  |  Violine Markus Beul |  Violoncello collegium musicum instrument
 ale münster Musikalische Leitung: Jürgen Tiedemann\nhttps://collegium-mus
 icum-muenster.de/events/wintersemester-20152016/
URL:https://collegium-musicum-muenster.de/events/wintersemester-20152016/
END:VEVENT
END:VCALENDAR