BEGIN:VCALENDAR
VERSION:2.0
PRODID:-//eventon.com NONSGML v1.0//EN
CALSCALE:GREGORIAN
METHOD:PUBLISH
BEGIN:VEVENT
UID:69e4dbb936c3f
DTSTAMP:20260419T134217Z
DTSTART:20250116T191500Z
DTEND:20250116T225900Z
LOCATION:Hörsaal H1 Schlossplatz 46\,  48143 Münster
SUMMARY:Semesterkonzert
DESCRIPTION:Ralph Vaughan Williams – „In the Fen Country“ Wolfgang Am
 adeus Mozart – Hornkonzert Nr. 3 Es-Dur KV 447 Jean Sibelius – Sinfonie
  Nr. 5 Es-Dur op. 82 Hartmut Welpmann | Horn collegium musicum instrumental
 e münster Musikalische Leitung: Marion Wood\nhttps://collegium-musicum-mue
 nster.de/events/semesterkonzert-winter-2024-25-2/
URL:https://collegium-musicum-muenster.de/events/semesterkonzert-winter-2024-25-2/
END:VEVENT
END:VCALENDAR