BEGIN:VCALENDAR
VERSION:2.0
PRODID:-//eventon.com NONSGML v1.0//EN
CALSCALE:GREGORIAN
METHOD:PUBLISH
BEGIN:VEVENT
UID:69e9dd466b6e5
DTSTAMP:20260423T085014Z
DTSTART:20240702T181500Z
DTEND:20240702T215900Z
LOCATION:Hörsaal H1 Schlossplatz 46\,  48143 Münster
SUMMARY:Semesterkonzert Sommer 2024
DESCRIPTION:Otto Nicolai – Ouvertüre zu &#8222;Die lustigen Weiber von W
 indsor&#8220; Otto Nicolai – Arie und Rezitativ &#8222;Nun eilt herbei&#8
 220; aus &#8222;Die lustigen Weiber von Windsor&#8220; Samuel Barber – &#
 8222;Knoxville\,  Summer of 1915&#8220; op. 59 Erich Korngold – „Viel 
 Lärm um Nichts“ op. 11 Georges Bizet – L’Arlésienne Suite No. 2 Yea
 seul[..]\nhttps://collegium-musicum-muenster.de/events/semesterkonzert-somm
 er-2024/
URL:https://collegium-musicum-muenster.de/events/semesterkonzert-sommer-2024/
END:VEVENT
END:VCALENDAR