BEGIN:VCALENDAR
VERSION:2.0
PRODID:-//eventon.com NONSGML v1.0//EN
CALSCALE:GREGORIAN
METHOD:PUBLISH
BEGIN:VEVENT
UID:69e9db6bbf553
DTSTAMP:20260423T084219Z
DTSTART:20190117T191500Z
DTEND:20190117T225000Z
LOCATION:Hörsaal H1 Schlossplatz 46\,  48143 Münster
SUMMARY:Semesterkonzert
DESCRIPTION:Programm u.a.: Bruckner &#8211; Sinfonie Nr. 2 c-Moll Ausführe
 nde: collegium musicum instrumentale münster | Musikalische Leitung: Jü
 rgen Tiedemann\nhttps://collegium-musicum-muenster.de/events/semesterkonzer
 t-5/
URL:https://collegium-musicum-muenster.de/events/semesterkonzert-5/
END:VEVENT
END:VCALENDAR